BEGIN:VCALENDAR
VERSION:2.0
PRODID:-//National Aircraft Finance Association//Silkstart Technology 
 Inc.//
BEGIN:VTIMEZONE
TZID:US/Eastern
BEGIN:DAYLIGHT
DTSTART;VALUE=DATE-TIME:20260308T020000
TZNAME:EDT
TZOFFSETFROM:-0500
TZOFFSETTO:-0400
END:DAYLIGHT
BEGIN:STANDARD
DTSTART;VALUE=DATE-TIME:20261101T020000
TZNAME:EST
TZOFFSETFROM:-0400
TZOFFSETTO:-0500
END:STANDARD
END:VTIMEZONE
BEGIN:VEVENT
SUMMARY:International Customs Issues in U.S. Aircraft Imports and Exports
DTSTART;TZID=US/Eastern;VALUE=DATE-TIME:20260528T130000
DTEND;TZID=US/Eastern;VALUE=DATE-TIME:20260528T140000
DTSTAMP;VALUE=DATE-TIME:20260407T002805
UID:69d44f9557912605e5e730bd
DESCRIPTION: Every U.S. aircraft import is an export from another 
 jurisdiction\, and vice versa. What are the U.S. and foreign 
 requirements\, and who would you contact for assistance? The NAFA 
 Transactional Integrity Committee invites you to attend 
 &ldquo\;International Customs Issues in U.S. Aircraft Imports and 
 Exports&rdquo\; at 1:00 pm on Thursday May 28th. Katie Deluca from Harper 
 Meyer will lead a group of international customs professionals through 
 case studies covering both ends of imports and exports. Awareness of the 
 issues and costs upfront can help the entire import/export process go 
 smoothly and avoid negative consequences. RSVP here 
LOCATION:
PRIORITY:5
URL:https://www.nafa.aero:443/events/international-customs-issues-in-us-
 aircraft-imports-and-export
END:VEVENT
END:VCALENDAR
