BEGIN:VCALENDAR
VERSION:2.0
PRODID:-//National Aircraft Finance Association//Silkstart Technology 
 Inc.//
BEGIN:VTIMEZONE
TZID:US/Eastern
BEGIN:DAYLIGHT
DTSTART;VALUE=DATE-TIME:20260308T020000
TZNAME:EDT
TZOFFSETFROM:-0500
TZOFFSETTO:-0400
END:DAYLIGHT
BEGIN:STANDARD
DTSTART;VALUE=DATE-TIME:20261101T020000
TZNAME:EST
TZOFFSETFROM:-0400
TZOFFSETTO:-0500
END:STANDARD
END:VTIMEZONE
BEGIN:VEVENT
SUMMARY:Essentials of U.S. Customs Imports and Exports: What Every BizAv 
 Professional Should Know
DTSTART;TZID=US/Eastern;VALUE=DATE-TIME:20260514T130000
DTEND;TZID=US/Eastern;VALUE=DATE-TIME:20260514T140000
DTSTAMP;VALUE=DATE-TIME:20260422T235830
UID:69e960a657912605efa330cb
DESCRIPTION: Join us for the first NAFA Transactional Integrity Committee 
 Due Diligence webinar of 2026\, &ldquo\;Essentials of U.S. Customs Imports
  and Exports: What Every BizAv Professional Should Know&rdquo\;\, at 1:00 
 pm on Thursday\, May 14th. A panel of experts will outline the general 
 concepts of imports and exports\, and provide any current tariff news\, to
  help everyone recognize those situations which require timely legal 
 and/or customs support. Thu\, May 14\, 2026 1:00 PM - 2:00 PM (UTC-05:00) 
 Eastern Time (US &amp\; Canada) We look forward to having you attend the 
 event! 
LOCATION:Online
PRIORITY:5
URL:https://www.nafa.aero:443/events/essentials-of-us-customs-imports-and-
 exports-what-every-bizav-professional-should-know-1
END:VEVENT
END:VCALENDAR
